BEGIN:VCALENDAR
VERSION:2.0
PRODID:-//cfl//Events//EN
METHOD:REQUEST
BEGIN:VEVENT
UID:3cc16b0e80beaa5baa8c7878608584d8@https://www.siani.se
DTSTAMP:20260422T160430Z
DTSTART:20260519T220000Z
DTEND:20260519T220000Z
SUMMARY:SIANI Event: Course on the Method Manual for Gender Equality
LOCATION:Online over Zoom
DESCRIPTION:The course on the Method Manual for Gender Equality to explore how the manual can be used as a practical tool in your own work and teaching.
END:VEVENT
END:VCALENDAR
