BEGIN:VCALENDAR
VERSION:2.0
PRODID:-//cfl//Events//EN
METHOD:REQUEST
BEGIN:VEVENT
UID:6319739836497b064643c1c5bd6f509b@https://www.siani.se
DTSTAMP:20260421T085526Z
DTSTART:20250703T060000Z
DTEND:20250703T090000Z
SUMMARY:SIANI Event: Virtual launch: Policy brief on Dryland Agroforestry in East Africa
LOCATION:Online (Microsoft Teams)
DESCRIPTION:Vi Agroforestry will host a virtual launch of a new policy brief that outlines actionable strategies for mainstreaming agroforestry into national and regional frameworks.
END:VEVENT
END:VCALENDAR
