BEGIN:VCALENDAR
VERSION:2.0
PRODID:-//cfl//Events//EN
METHOD:REQUEST
BEGIN:VEVENT
UID:f4a53916e9db11ff46d4e3bf6055add7@https://www.siani.se
DTSTAMP:20260423T031153Z
DTSTART:20250615T220000Z
DTEND:20250615T220000Z
SUMMARY:SIANI Event: Webinar: Multisectoral efforts for food system transformation
LOCATION:Virutal event
END:VEVENT
END:VCALENDAR
