BEGIN:VCALENDAR
VERSION:2.0
PRODID:-//cfl//Events//EN
METHOD:REQUEST
BEGIN:VEVENT
UID:668c815734329a8f2f9f8154a4ec5f7d@https://www.siani.se
DTSTAMP:20260420T225947Z
DTSTART:20250310T100000Z
DTEND:20250310T113000Z
SUMMARY:SIANI Event: InfoPoint conference: Investing in Africa’s agriculture &#8211; The role of AATIF &#038; blended finance
LOCATION:InfoPoint premises and online
END:VEVENT
END:VCALENDAR
