BEGIN:VCALENDAR
VERSION:2.0
PRODID:-//cfl//Events//EN
METHOD:REQUEST
BEGIN:VEVENT
UID:8b4aa2b5358981ed018c75d7f56444e5@https://www.siani.se
DTSTAMP:20260420T121104Z
DTSTART:20250321T230000Z
DTEND:20250321T230000Z
SUMMARY:SIANI Event: World Water Day &#8211; Glacier Preservation
END:VEVENT
END:VCALENDAR
