BEGIN:VCALENDAR
VERSION:2.0
PRODID:-//cfl//Events//EN
METHOD:REQUEST
BEGIN:VEVENT
UID:d0153a56a21be5441be83097dbcde4dd@https://www.siani.se
DTSTAMP:20260425T110723Z
DTSTART:20250204T083000Z
DTEND:20250204T170000Z
SUMMARY:SIANI Event: Conference: Geopolitics of Sustainability
LOCATION:Stockholm - invitation only
DESCRIPTION:The Geopolitics of Sustainability conference will explore strategies to address increasingly urgent and complex sustainability challenges more effectively alongside rising geopolitical insecurity.
END:VEVENT
END:VCALENDAR
