BEGIN:VCALENDAR
VERSION:2.0
PRODID:-//cfl//Events//EN
METHOD:REQUEST
BEGIN:VEVENT
UID:8640d785f3df747dd8d934649aba7ebd@https://www.siani.se
DTSTAMP:20260421T191358Z
DTSTART:20250114T130000Z
DTEND:20250114T140000Z
SUMMARY:SIANI Event: Webinar | The Global Fertilizer and Soil Health Challenge
LOCATION:Online (zoom)
DESCRIPTION:On the 14th of January, the Coalition of Action 4 Soil Health (CA4SH) will host a webinar on "Advancing the soil health agenda in Kenya and Tanzania through soil knowledge exchange", as part of the global fertilizer and soil health challenge.
END:VEVENT
END:VCALENDAR
