BEGIN:VCALENDAR
VERSION:2.0
PRODID:-//cfl//Events//EN
METHOD:REQUEST
BEGIN:VEVENT
UID:adda09ebd196071172fc1f1f2d8d7da4@https://www.siani.se
DTSTAMP:20260421T191834Z
DTSTART:20241212T090000Z
DTEND:20241212T110000Z
SUMMARY:SIANI Event: Webinar: Economic Performance and Climate Change Mitigation Potential of Agroecology: Evidence and Knowledge Gaps
LOCATION:Online, Zoom
DESCRIPTION:Together with the Joint Research Centre (JRC), GFAiR is hosting a webinar where Luisa Paracchini will share insights from systematic reviews examining the effects of agroecology on food security, socioeconomic outcomes, and the sustainability of food systems.
END:VEVENT
END:VCALENDAR
