BEGIN:VCALENDAR
VERSION:2.0
PRODID:-//cfl//Events//EN
METHOD:REQUEST
BEGIN:VEVENT
UID:57858d3aeb0f3716ae2cf041317febdd@https://www.siani.se
DTSTAMP:20260421T212659Z
DTSTART:20241126T110000Z
DTEND:20241126T123000Z
SUMMARY:SIANI Event: Kick-off meeting for Agri4D 2025
LOCATION:Zoom
END:VEVENT
END:VCALENDAR
