BEGIN:VCALENDAR
VERSION:2.0
PRODID:-//cfl//Events//EN
METHOD:REQUEST
BEGIN:VEVENT
UID:5a3da0f98b1505d9e74b32dbdf1c1969@https://www.siani.se
DTSTAMP:20260425T193119Z
DTSTART:20241029T180000Z
DTEND:20241029T200000Z
SUMMARY:SIANI Event: Bioeconomy for biodiversity: challenges in value chains of non-timber forest products
LOCATION:Cali Colombia Universidad ECCI - Av. 4 Nte. #13N-03, Granada
DESCRIPTION:Side event at CBD COP16 about the role of non-timber forest products in the bioeconomy.
END:VEVENT
END:VCALENDAR
