BEGIN:VCALENDAR
VERSION:2.0
PRODID:-//cfl//Events//EN
METHOD:REQUEST
BEGIN:VEVENT
UID:e2142fb0a934b0ba2f489dd664108fcf@https://www.siani.se
DTSTAMP:20260425T193921Z
DTSTART:20241029T173000Z
DTEND:20241029T181500Z
SUMMARY:SIANI Event: COP16: Biodiversity, Land Use Change and the Implications for Conflict in Latin America
LOCATION:Cámara de comercio de Cáli (Sala múltiple 2).
DESCRIPTION:A SIANI expert group will contribute to a side event at COP 16 that explains the link between violent conflicts and biodiversity.
END:VEVENT
END:VCALENDAR
