BEGIN:VCALENDAR
VERSION:2.0
PRODID:-//cfl//Events//EN
METHOD:REQUEST
BEGIN:VEVENT
UID:a434db286769d749b227fd36fbc9a2e4@https://www.siani.se
DTSTAMP:20260420T191059Z
DTSTART:20241110T230000Z
DTEND:20241121T230000Z
SUMMARY:SIANI Event: UN ⎮ Climate Change Conference (COP29)
LOCATION:Baku, Azerbaijan
END:VEVENT
END:VCALENDAR
