BEGIN:VCALENDAR
VERSION:2.0
PRODID:-//cfl//Events//EN
METHOD:REQUEST
BEGIN:VEVENT
UID:8f6c09aa2f98d388b9ffc91314583beb@https://www.siani.se
DTSTAMP:20260421T141715Z
DTSTART:20240516T120000Z
DTEND:20240516T140000Z
SUMMARY:SIANI Event: SASUF workshop: Will Southern Africa adapt AgriBiologicals? Nordic and African perspectives
LOCATION:Plantan, Agricum, SLU Alnarp
END:VEVENT
END:VCALENDAR
