BEGIN:VCALENDAR
VERSION:2.0
PRODID:-//cfl//Events//EN
METHOD:REQUEST
BEGIN:VEVENT
UID:df3b2c921f25edb4e0811c9156a49206@https://www.siani.se
DTSTAMP:20260420T121054Z
DTSTART:20240307T120000Z
DTEND:20240306T230000Z
SUMMARY:SIANI Event: CA4SH: The road ahead for soil health action: Creating an enabling policy environment for soil health post-COP28
LOCATION:Online, Zoom
END:VEVENT
END:VCALENDAR
