BEGIN:VCALENDAR
VERSION:2.0
PRODID:-//cfl//Events//EN
METHOD:REQUEST
BEGIN:VEVENT
UID:c6c077a232b56bd5dbe2e5da21258822@https://www.siani.se
DTSTAMP:20260421T141502Z
DTSTART:20231106T113000Z
DTEND:20231105T230000Z
SUMMARY:SIANI Event: Launch of The SOFA 2023
LOCATION:online, Sheikh Zayed Centre (FAO Headquarters)
END:VEVENT
END:VCALENDAR
