BEGIN:VCALENDAR
VERSION:2.0
PRODID:-//cfl//Events//EN
METHOD:REQUEST
BEGIN:VEVENT
UID:53f0afa69fceb48a5505a65cb23d995e@https://www.siani.se
DTSTAMP:20260422T214216Z
DTSTART:20230911T220000Z
DTEND:20230911T220000Z
SUMMARY:SIANI Event: Global Sustainable Development Report (GSDR) 2023
DESCRIPTION:The 2023 GSDR focuses on accelerating transformation through key entry points and will provide evidence to help scientists overcome challenges and accelerate action.
END:VEVENT
END:VCALENDAR
