BEGIN:VCALENDAR
VERSION:2.0
PRODID:-//cfl//Events//EN
METHOD:REQUEST
BEGIN:VEVENT
UID:836078633fdd11a6bddcc1a90ee165da@https://www.siani.se
DTSTAMP:20260422T133833Z
DTSTART:20231017T133000Z
DTEND:20231017T143000Z
SUMMARY:SIANI Event: Growing local innovators for enhanced food and water security in a changing climate
LOCATION:Online and in Austria room at FAO Headquarters.
DESCRIPTION:This event at the World Food Forum 2023 explores innovative solutions to water management in the agrifood sector to mitigate the impacts of climate change, hunger and water insecurity.
END:VEVENT
END:VCALENDAR
