BEGIN:VCALENDAR
VERSION:2.0
PRODID:-//cfl//Events//EN
METHOD:REQUEST
BEGIN:VEVENT
UID:def63b64e6333c5d8f8c47404a7dcf4e@https://www.siani.se
DTSTAMP:20260425T174054Z
DTSTART:20230712T220000Z
DTEND:20230712T220000Z
SUMMARY:SIANI Event: Soil Partners’ Day
LOCATION:German room (C269) & Sheikh Zayed Center (FAO atrium)
DESCRIPTION:soil and water, highlighting their vital importance on our daily lives.
END:VEVENT
END:VCALENDAR
