BEGIN:VCALENDAR
VERSION:2.0
PRODID:-//cfl//Events//EN
METHOD:REQUEST
BEGIN:VEVENT
UID:5b68a8c8987bb504f45a85a31e79b890@https://www.siani.se
DTSTAMP:20260420T152842Z
DTSTART:20230905T073000Z
DTEND:20230905T133000Z
SUMMARY:SIANI Event: Symposium dedicated to millets – to encourage interdisciplinary collaborations round millets
LOCATION:Alnarp & online
END:VEVENT
END:VCALENDAR
