BEGIN:VCALENDAR
VERSION:2.0
PRODID:-//cfl//Events//EN
METHOD:REQUEST
BEGIN:VEVENT
UID:b2ff222fd07c1146ce1ab048d895e23b@https://www.siani.se
DTSTAMP:20260421T024453Z
DTSTART:20230723T220000Z
DTEND:20230725T220000Z
SUMMARY:SIANI Event: 2023 UN Food Systems Stocktaking Moment
LOCATION:FAO
END:VEVENT
END:VCALENDAR
