BEGIN:VCALENDAR
VERSION:2.0
PRODID:-//cfl//Events//EN
METHOD:REQUEST
BEGIN:VEVENT
UID:d8537aff0dfae0cc8601c6917d124b34@https://www.siani.se
DTSTAMP:20260424T021748Z
DTSTART:20230924T220000Z
DTEND:20230926T220000Z
SUMMARY:SIANI Event: FAO Global Conference on Sustainable Livestock Transformation
DESCRIPTION:Dialogue on innovations and pathways to efficiently produce more nutritious, safe and accessible animal source foods with a reduced environmental footprint
END:VEVENT
END:VCALENDAR
