BEGIN:VCALENDAR
VERSION:2.0
PRODID:-//cfl//Events//EN
METHOD:REQUEST
BEGIN:VEVENT
UID:206c6af02c77f5935e92879f00dc8e70@https://www.siani.se
DTSTAMP:20260421T172204Z
DTSTART:20230314T104500Z
DTEND:20230314T121500Z
SUMMARY:SIANI Event: Design for development
LOCATION:Stockholm Environment Institute,Linnégatan 87D and online
DESCRIPTION:Sharing insights on how to approach transdisciplinary co-design work with marginalized communities.
END:VEVENT
END:VCALENDAR
