BEGIN:VCALENDAR
VERSION:2.0
PRODID:-//cfl//Events//EN
METHOD:REQUEST
BEGIN:VEVENT
UID:9b1bdb09416008988214df86e45114ba@https://www.siani.se
DTSTAMP:20260424T143239Z
DTSTART:20220601T120000Z
DTEND:20220601T133000Z
SUMMARY:SIANI Event: The silent Antimicrobial Resistance pandemic urges a concerted global response &#8211; but what needs to be done?
LOCATION:Medelhavsmuseet, Fredsgatan 2, Stockholm; Zoom for online participation.
END:VEVENT
END:VCALENDAR
