BEGIN:VCALENDAR
VERSION:2.0
PRODID:-//cfl//Events//EN
METHOD:REQUEST
BEGIN:VEVENT
UID:b779f00e1d3150aac7c165d38b2fcb39@https://www.siani.se
DTSTAMP:20260425T155610Z
DTSTART:20140923T200000Z
DTEND:20140924T200000Z
SUMMARY:SIANI Event: World Agri-Tech Investment Summit
LOCATION:America Square Conference Centre, 17 Crosswall
DESCRIPTION:With a specific focus on the application of big data in agri-tech,&nbsp;and in-depth analysis of the market opportunity for biopesticides, seed treatment and drought-resilience, the 2014 summit will bring together global leaders in resource-efficient agriculture with the world’s most innovative technology developers and the international clean-tech investment community.
END:VEVENT
END:VCALENDAR
