BEGIN:VCALENDAR
VERSION:2.0
PRODID:-//cfl//Events//EN
METHOD:REQUEST
BEGIN:VEVENT
UID:1b37e1e1c1de7888f8c661d4bbf6af24@https://www.siani.se
DTSTAMP:20260424T104526Z
DTSTART:20220213T230000Z
DTEND:20220217T230000Z
SUMMARY:SIANI Event: Africa and the European Union: 7th EU-Africa Business Forum – Building Stronger Value Chains For Sustainable Growth And Decent Jobs
LOCATION:In person (Brussels) and online event
END:VEVENT
END:VCALENDAR
