BEGIN:VCALENDAR
VERSION:2.0
PRODID:-//cfl//Events//EN
METHOD:REQUEST
BEGIN:VEVENT
UID:58710b63f1ecbad5454100f9c5aeb241@https://www.siani.se
DTSTAMP:20260422T010753Z
DTSTART:20120618T060000Z
DTEND:20120618T130000Z
SUMMARY:SIANI Event: Agriculture &amp; Rural Dev Day at Rio+20
END:VEVENT
END:VCALENDAR
