BEGIN:VCALENDAR
VERSION:2.0
PRODID:-//cfl//Events//EN
METHOD:REQUEST
BEGIN:VEVENT
UID:85d3f390416aa7dffab9e21f032fe270@https://www.siani.se
DTSTAMP:20260421T085531Z
DTSTART:20211104T230000Z
DTEND:20211106T230000Z
SUMMARY:SIANI Event: GLF CLIMATE: FRONTIERS OF CHANGE
LOCATION:Online + University of Glasgow
END:VEVENT
END:VCALENDAR
