BEGIN:VCALENDAR
VERSION:2.0
PRODID:-//cfl//Events//EN
METHOD:REQUEST
BEGIN:VEVENT
UID:bc5dc70f42bbe7b1df1aee88592ec97c@https://www.siani.se
DTSTAMP:20260422T144054Z
DTSTART:20120508T200000Z
DTEND:20120508T200000Z
SUMMARY:SIANI Event: China as a Global Land Investor
LOCATION:Stockholm Environment Institute (SEI), Linnégatan 87D
DESCRIPTION:Land and water acquisitions in Africa are highly topical in the  development discussions today. The processes of land acquisition and the  size of agricultural transferred so far have taken many by surprise. As  a result of this fast track, discussions and knowledge about the  different aspects of the processes are highly precursory.
END:VEVENT
END:VCALENDAR
