BEGIN:VCALENDAR
VERSION:2.0
PRODID:-//cfl//Events//EN
METHOD:REQUEST
BEGIN:VEVENT
UID:34a4622e041811652b0ba0255a54d8ce@https://www.siani.se
DTSTAMP:20260423T071447Z
DTSTART:20150310T070000Z
DTEND:20150310T110000Z
SUMMARY:SIANI Event: How to Feed Nine Billion within the Planet’s Boundaries
LOCATION:Kungl. Myntkabinettet, Slottsbacken 6
DESCRIPTION:Developing effective and sustainable ways forward is of high-priority, but there is no one size fits all solution. Agroecology advocates claim to offer a holistic approach which realizes key principles through context-specific design of strategies and techniques.
END:VEVENT
END:VCALENDAR
