BEGIN:VCALENDAR
VERSION:2.0
PRODID:-//cfl//Events//EN
METHOD:REQUEST
BEGIN:VEVENT
UID:d497d1d7f2f174585ed0d41fe504c037@https://www.siani.se
DTSTAMP:20260422T233057Z
DTSTART:20160118T110000Z
DTEND:20160118T140000Z
SUMMARY:SIANI Event: Zero Hunger in a Changing Climate
LOCATION:Sida, Valhallavägen 199
DESCRIPTION:By 2030, we’ll need to feed an additional billion people from the existing resources we have available on the planet. This food needs to be produced sustainably, equitably and efficiently, without causing more environmental harm for us and future generations. The question of how to do it, clearly becomes the main issue.
END:VEVENT
END:VCALENDAR
