BEGIN:VCALENDAR
VERSION:2.0
PRODID:-//cfl//Events//EN
METHOD:REQUEST
BEGIN:VEVENT
UID:c0862402ffd7b6b302750d5044ff668f@https://www.siani.se
DTSTAMP:20260420T000832Z
DTSTART:20160817T053000Z
DTEND:20160817T123000Z
SUMMARY:SIANI Event: Institutional Development in the Context of Good Governance and the 2030 Agenda
LOCATION:Medelhavmuseet, Fredsgatan 2
DESCRIPTION:The seminar will present different perspectives on natural resource management, the role of institutions and on good governance in the context of development cooperation. These perspectives will come from different speakers with experiences from government agencies, civil society, private sector, research society and development cooperation.
END:VEVENT
END:VCALENDAR
