BEGIN:VCALENDAR
VERSION:2.0
PRODID:-//cfl//Events//EN
METHOD:REQUEST
BEGIN:VEVENT
UID:914ba5d65bc6a0a0514a2eeb37add2dc@https://www.siani.se
DTSTAMP:20260421T181305Z
DTSTART:20170118T220000Z
DTEND:20170118T220000Z
SUMMARY:SIANI Event: SIANI Annual Meeting 2017: Towards Zero Hunger through Rural Transformation
LOCATION:Folkets Hus, Barnhusgatan 12-14
DESCRIPTION:SIANI kicks off its 3rd phase with the annual meeting on 19th of January 2017. We invite everyone interested in promoting knowledge sharing, dialogue, and collaboration to advance sustainable agriculture for food security, improved nutrition and the eradication of hunger.
END:VEVENT
END:VCALENDAR
