BEGIN:VCALENDAR
VERSION:2.0
PRODID:-//cfl//Events//EN
METHOD:REQUEST
BEGIN:VEVENT
UID:7c4ba24f4ea10826590b6f3bf17c7934@https://www.siani.se
DTSTAMP:20260422T220952Z
DTSTART:20170827T050000Z
DTEND:20170827T063000Z
SUMMARY:SIANI Event: Balancing competing interests and opportunities for better wastewater governance
LOCATION:World Water Week 2017 Sweden
DESCRIPTION:The water crisis has been described as largely a governance crisis, however the role of wastewater has been overlooked in this discussion. With growing interest in harnessing the potential of wastewater, there is a growing need to address conflicting interests associated with managing and using this resource.
END:VEVENT
END:VCALENDAR
