BEGIN:VCALENDAR
VERSION:2.0
PRODID:-//cfl//Events//EN
METHOD:REQUEST
BEGIN:VEVENT
UID:70952ebfe2abd8b68f9e1ddef6d53865@https://www.siani.se
DTSTAMP:20260420T120940Z
DTSTART:20170928T200000Z
DTEND:20171001T200000Z
SUMMARY:SIANI Event: Annual FLARE Meeting 2017 in Stockholm
LOCATION:Stockholm Sweden
DESCRIPTION:Previous meetings (Paris 2015, Edinburgh 2016) emerged as a unique space for presentations and discussions around forests and livelihoods, and for generating new relationships among those in our field, especially for younger researchers.&nbsp;This year’s meeting is being organized in partnership with Stockholm University, Stockholm Environment Institute (SEI), the Swedish International Agricult
END:VEVENT
END:VCALENDAR
