BEGIN:VCALENDAR
VERSION:2.0
PRODID:-//cfl//Events//EN
METHOD:REQUEST
BEGIN:VEVENT
UID:2b9380975df1c043d35823577b8f523e@https://www.siani.se
DTSTAMP:20260421T104551Z
DTSTART:20210126T230000Z
DTEND:20210128T230000Z
SUMMARY:SIANI Event: SIANI Annual Meeting 2021: Inclusive and sustainable food systems
LOCATION:3 sessions broadcast on Zoom.
DESCRIPTION:Take the opportunity to connect, share ideas and exchange experiences to forward the discussions on inclusive and sustainable food systems.
END:VEVENT
END:VCALENDAR
