BEGIN:VCALENDAR
VERSION:2.0
PRODID:-//cfl//Events//EN
METHOD:REQUEST
BEGIN:VEVENT
UID:ba3a7ec1878df41bea48c24a94906b76@https://www.siani.se
DTSTAMP:20260425T193855Z
DTSTART:20201125T133000Z
DTEND:20201125T150000Z
SUMMARY:SIANI Event: The South Africa-Sweden University Forum (SASUF) Goes Digital: Connecting the Global South and North
LOCATION:Online
END:VEVENT
END:VCALENDAR
