BEGIN:VCALENDAR
VERSION:2.0
PRODID:-//cfl//Events//EN
METHOD:REQUEST
BEGIN:VEVENT
UID:0605dcd2304cf5efaedbd71909e136b8@https://www.siani.se
DTSTAMP:20260421T142641Z
DTSTART:20201126T150000Z
DTEND:20201126T163000Z
SUMMARY:SIANI Event: Agroecology and the reconstruction of agriculture post-COVID
LOCATION:Online via Zoom Zoom meeting ID: 610 0416 8648
DESCRIPTION:Miguel A. Altieri, Professor at UC Berkeley, Department of Environmental Science, Policy and Management will be speaking at this event.
END:VEVENT
END:VCALENDAR
