BEGIN:VCALENDAR
VERSION:2.0
PRODID:-//cfl//Events//EN
METHOD:REQUEST
BEGIN:VEVENT
UID:c5258e6c766bbaf527655b876a35cdd5@https://www.siani.se
DTSTAMP:20260422T185056Z
DTSTART:20201023T083000Z
DTEND:20201023T100000Z
SUMMARY:SIANI Event: World Food Day 2020 &#8211; Grow, Nourish, Sustain. Together.
LOCATION:Online
DESCRIPTION:On the occasion of the World Food Day, the Swedish FAO Committee invites you for a webinar about how we can make food systems sustainable for all.
END:VEVENT
END:VCALENDAR
