BEGIN:VCALENDAR
VERSION:2.0
PRODID:-//cfl//Events//EN
METHOD:REQUEST
BEGIN:VEVENT
UID:513c9cf0462db84d55ea242c6d170029@https://www.siani.se
DTSTAMP:20260425T192342Z
DTSTART:20201021T101000Z
DTEND:20201021T104000Z
SUMMARY:SIANI Event: Worth knowing &#8211; Transforming the tropical timber value chain
LOCATION:Online
END:VEVENT
END:VCALENDAR
