BEGIN:VCALENDAR
VERSION:2.0
PRODID:-//cfl//Events//EN
METHOD:REQUEST
BEGIN:VEVENT
UID:7da11b40817ea5d4bf5276ffe4b53f2b@https://www.siani.se
DTSTAMP:20260422T040811Z
DTSTART:20190902T110000Z
DTEND:20190902T130000Z
SUMMARY:SIANI Event: Climate change and land
LOCATION:KSLA, Drottninggatan 95 B.
DESCRIPTION:Learn directly from the IPCC authors about the latest trends of global land-use and its effects on climate.
END:VEVENT
END:VCALENDAR
