BEGIN:VCALENDAR
VERSION:2.0
PRODID:-//cfl//Events//EN
METHOD:REQUEST
BEGIN:VEVENT
UID:e799a4941b3cc6c6aa27392840aabddc@https://www.siani.se
DTSTAMP:20260422T005620Z
DTSTART:20190314T080000Z
DTEND:20190314T153000Z
SUMMARY:SIANI Event: How to Effectively Initiate, Facilitate and Engage in Multi-Stakeholder Partnerships
LOCATION:Stockholm Environment Institute, Linnégatan 87D
DESCRIPTION:If you are already involved in Multi-stakeholder Partnerships (MSPs), would like to initiate a process of MSP, or if you just want to know more about MSPs, this workshop is for you!
END:VEVENT
END:VCALENDAR
