BEGIN:VCALENDAR
VERSION:2.0
PRODID:-//cfl//Events//EN
METHOD:REQUEST
BEGIN:VEVENT
UID:600b08d9a65674e61abeb1185ccbca28@https://www.siani.se
DTSTAMP:20260421T173236Z
DTSTART:20190315T090000Z
DTEND:20190317T130000Z
SUMMARY:SIANI Event: Be a hacker at Food Hack: The innovation competition and food conference
DESCRIPTION:Be a Hacker! Join in and set your impact in the food industry! On Friday the 15th of March we launch the 5th annual Food Hack. New friends, lots of fun and food and tough challenges!
END:VEVENT
END:VCALENDAR
