BEGIN:VCALENDAR
VERSION:2.0
PRODID:-//cfl//Events//EN
METHOD:REQUEST
BEGIN:VEVENT
UID:1763517462229251c4132b9383f359df@https://www.siani.se
DTSTAMP:20260420T202546Z
DTSTART:20171101T080000Z
DTEND:20171101T160000Z
SUMMARY:SIANI Event: Planetary Health and Practice: Understanding the Health Impacts of Environmental Change on Water, Food and Air
LOCATION:Room K15, Stockholmsmässan Mässvägen 1 Älvsjö Stockholm Sweden
END:VEVENT
END:VCALENDAR
